BEGIN:VCALENDAR
PRODID:-//Pixl8//Eventfolio//EN
VERSION:2.0
X-WR-TIMEZONE:Europe/London
CALSCALE:GREGORIAN
METHOD:PUBLISH
CLASS:PUBLIC
BEGIN:VTIMEZONE
TZID:Europe/London
LAST-MODIFIED:20260306T231828Z
TZURL:https://www.tzurl.org/zoneinfo-outlook/Europe/London
X-LIC-LOCATION:Europe/London
BEGIN:DAYLIGHT
TZNAME:BST
TZOFFSETFROM:+0000
TZOFFSETTO:+0100
DTSTART:19700329T010000
RRULE:FREQ=YEARLY;BYMONTH=3;BYDAY=-1SU
END:DAYLIGHT
BEGIN:STANDARD
TZNAME:GMT
TZOFFSETFROM:+0100
TZOFFSETTO:+0000
DTSTART:19701025T020000
RRULE:FREQ=YEARLY;BYMONTH=10;BYDAY=-1SU
END:STANDARD
END:VTIMEZONE
BEGIN:VEVENT
DTSTART;TZID=Europe/London:20260113T150000
DTEND;TZID=Europe/London:20260113T160000
DTSTAMP:20260421T094132Z
UID:{4285C494-0BD3-44B8-AEF2C55F36792826}
LOCATION:
SUMMARY:The A-Z of Unscripted Co-Production
DESCRIPTION:Join Tom Brisley in conversation with Solange Attwood as they discuss international co-productions across the unscripted sector, in advance of Realscreen 2026.\n
 \n
 Event details: https://www.pact.co.uk/event/the-a-z-of-unscripted-co-production.html
PRIORITY:1
END:VEVENT
END:VCALENDAR