BEGIN:VCALENDAR
PRODID:-//Pixl8//Eventfolio//EN
VERSION:2.0
X-WR-TIMEZONE:Europe/London
CALSCALE:GREGORIAN
METHOD:PUBLISH
CLASS:PUBLIC
BEGIN:VTIMEZONE
TZID:Europe/London
LAST-MODIFIED:20260306T231828Z
TZURL:https://www.tzurl.org/zoneinfo-outlook/Europe/London
X-LIC-LOCATION:Europe/London
BEGIN:DAYLIGHT
TZNAME:BST
TZOFFSETFROM:+0000
TZOFFSETTO:+0100
DTSTART:19700329T010000
RRULE:FREQ=YEARLY;BYMONTH=3;BYDAY=-1SU
END:DAYLIGHT
BEGIN:STANDARD
TZNAME:GMT
TZOFFSETFROM:+0100
TZOFFSETTO:+0000
DTSTART:19701025T020000
RRULE:FREQ=YEARLY;BYMONTH=10;BYDAY=-1SU
END:STANDARD
END:VTIMEZONE
BEGIN:VEVENT
DTSTART;TZID=Europe/London:20250122T140000
DTEND;TZID=Europe/London:20250122T150000
DTSTAMP:20260422T204303Z
UID:{C9ACF9D5-04C1-4A3D-987372DD2A22FF5E}
LOCATION:Online
SUMMARY:Screen Encounters with Britain
DESCRIPTION:Join us for this event hosted jointly with King's College London for insights into how SVODs are reshaping viewing patterns and screen encounters with British films and TV shows in European markets.\n
 \n
 Event details: https://www.pact.co.uk/event/screen-encounters-with-britain.html
PRIORITY:1
END:VEVENT
END:VCALENDAR