BEGIN:VCALENDAR
PRODID:-//Pixl8//Eventfolio//EN
VERSION:2.0
X-WR-TIMEZONE:Europe/London
CALSCALE:GREGORIAN
METHOD:PUBLISH
CLASS:PUBLIC
BEGIN:VTIMEZONE
TZID:Europe/London
LAST-MODIFIED:20260306T231828Z
TZURL:https://www.tzurl.org/zoneinfo-outlook/Europe/London
X-LIC-LOCATION:Europe/London
BEGIN:DAYLIGHT
TZNAME:BST
TZOFFSETFROM:+0000
TZOFFSETTO:+0100
DTSTART:19700329T010000
RRULE:FREQ=YEARLY;BYMONTH=3;BYDAY=-1SU
END:DAYLIGHT
BEGIN:STANDARD
TZNAME:GMT
TZOFFSETFROM:+0100
TZOFFSETTO:+0000
DTSTART:19701025T020000
RRULE:FREQ=YEARLY;BYMONTH=10;BYDAY=-1SU
END:STANDARD
END:VTIMEZONE
BEGIN:VEVENT
DTSTART;TZID=Europe/London:20260312T130000
DTEND;TZID=Europe/London:20260312T140000
DTSTAMP:20260421T220433Z
UID:{48581780-2A0F-441B-9F65D3ED75F7AF1C}
LOCATION:
SUMMARY:Screen Cornwall Production Fund Briefing
DESCRIPTION:Pact members are invited to join Screen Cornwall to learn more about its production fund.\n
 \n
 Event details: https://www.pact.co.uk/event/screen-cornwall-production-fund-briefing.html
PRIORITY:1
END:VEVENT
END:VCALENDAR