BEGIN:VCALENDAR
PRODID:-//Pixl8//Eventfolio//EN
VERSION:2.0
X-WR-TIMEZONE:Europe/London
CALSCALE:GREGORIAN
METHOD:PUBLISH
CLASS:PUBLIC
BEGIN:VTIMEZONE
TZID:Europe/London
LAST-MODIFIED:20260306T231828Z
TZURL:https://www.tzurl.org/zoneinfo-outlook/Europe/London
X-LIC-LOCATION:Europe/London
BEGIN:DAYLIGHT
TZNAME:BST
TZOFFSETFROM:+0000
TZOFFSETTO:+0100
DTSTART:19700329T010000
RRULE:FREQ=YEARLY;BYMONTH=3;BYDAY=-1SU
END:DAYLIGHT
BEGIN:STANDARD
TZNAME:GMT
TZOFFSETFROM:+0100
TZOFFSETTO:+0000
DTSTART:19701025T020000
RRULE:FREQ=YEARLY;BYMONTH=10;BYDAY=-1SU
END:STANDARD
END:VTIMEZONE
BEGIN:VEVENT
DTSTART;TZID=Europe/London;VALUE=DATE:20250203
DTEND;TZID=Europe/London;VALUE=DATE:20250208
DTSTAMP:20260419T130128Z
UID:{904AB381-65CB-4B4E-86C9269DB939C35F}
LOCATION:Miami\, FL
SUMMARY:Realscreen & NATPE Global 2025
DESCRIPTION:Register to be part of the official UK Indies delegation at Realscreen Summit, and opt to attend NATPE Global in the same week with an exclusive Pact Combo Pass offer.\n
 \n
 Event details: https://www.pact.co.uk/event/realscreen-natpe-global-2025.html
PRIORITY:1
END:VEVENT
END:VCALENDAR