BEGIN:VCALENDAR
PRODID:-//Pixl8//Eventfolio//EN
VERSION:2.0
X-WR-TIMEZONE:Europe/London
CALSCALE:GREGORIAN
METHOD:PUBLISH
CLASS:PUBLIC
BEGIN:VTIMEZONE
TZID:Europe/London
LAST-MODIFIED:20260306T231828Z
TZURL:https://www.tzurl.org/zoneinfo-outlook/Europe/London
X-LIC-LOCATION:Europe/London
BEGIN:DAYLIGHT
TZNAME:BST
TZOFFSETFROM:+0000
TZOFFSETTO:+0100
DTSTART:19700329T010000
RRULE:FREQ=YEARLY;BYMONTH=3;BYDAY=-1SU
END:DAYLIGHT
BEGIN:STANDARD
TZNAME:GMT
TZOFFSETFROM:+0100
TZOFFSETTO:+0000
DTSTART:19701025T020000
RRULE:FREQ=YEARLY;BYMONTH=10;BYDAY=-1SU
END:STANDARD
END:VTIMEZONE
BEGIN:VEVENT
DTSTART;TZID=Europe/London:20241119T100000
DTEND;TZID=Europe/London:20241119T163000
DTSTAMP:20260421T134814Z
UID:{FD745711-0939-4B0B-83D19722F386BFA8}
LOCATION:Everyman Kings Cross\, 14-18 Handyside Street\, London N1C 4DN
SUMMARY:Meet the Distributors Summit
DESCRIPTION:Pact members are invited to join us for an exclusive event designed to help producers navigate the evolving world of content distribution.\n
 \n
 Event details: https://www.pact.co.uk/event/meet-the-distributors-summit.html
PRIORITY:1
END:VEVENT
END:VCALENDAR