BEGIN:VCALENDAR
PRODID:-//Pixl8//Eventfolio//EN
VERSION:2.0
X-WR-TIMEZONE:Europe/London
CALSCALE:GREGORIAN
METHOD:PUBLISH
CLASS:PUBLIC
BEGIN:VTIMEZONE
TZID:Europe/London
LAST-MODIFIED:20260306T231828Z
TZURL:https://www.tzurl.org/zoneinfo-outlook/Europe/London
X-LIC-LOCATION:Europe/London
BEGIN:DAYLIGHT
TZNAME:BST
TZOFFSETFROM:+0000
TZOFFSETTO:+0100
DTSTART:19700329T010000
RRULE:FREQ=YEARLY;BYMONTH=3;BYDAY=-1SU
END:DAYLIGHT
BEGIN:STANDARD
TZNAME:GMT
TZOFFSETFROM:+0100
TZOFFSETTO:+0000
DTSTART:19701025T020000
RRULE:FREQ=YEARLY;BYMONTH=10;BYDAY=-1SU
END:STANDARD
END:VTIMEZONE
BEGIN:VEVENT
DTSTART;TZID=Europe/London;VALUE=DATE:20250401
DTEND;TZID=Europe/London;VALUE=DATE:20250403
DTSTAMP:20260425T172838Z
UID:{C826E65A-D1C7-47C9-A23795A4CEA8B118}
LOCATION:Online
SUMMARY:Meet the Distributors: 1-2-1 Virtual Meetings
DESCRIPTION:Connect with and pitch to distributors in 15-minute speed meetings spread over the course of two days.\n
 \n
 Event details: https://www.pact.co.uk/event/meet-the-distributors-1-2-1-virtual-meetings.html
PRIORITY:1
END:VEVENT
END:VCALENDAR