BEGIN:VCALENDAR
PRODID:-//Pixl8//Eventfolio//EN
VERSION:2.0
X-WR-TIMEZONE:Europe/London
CALSCALE:GREGORIAN
METHOD:PUBLISH
CLASS:PUBLIC
BEGIN:VTIMEZONE
TZID:Europe/London
LAST-MODIFIED:20260306T231828Z
TZURL:https://www.tzurl.org/zoneinfo-outlook/Europe/London
X-LIC-LOCATION:Europe/London
BEGIN:DAYLIGHT
TZNAME:BST
TZOFFSETFROM:+0000
TZOFFSETTO:+0100
DTSTART:19700329T010000
RRULE:FREQ=YEARLY;BYMONTH=3;BYDAY=-1SU
END:DAYLIGHT
BEGIN:STANDARD
TZNAME:GMT
TZOFFSETFROM:+0100
TZOFFSETTO:+0000
DTSTART:19701025T020000
RRULE:FREQ=YEARLY;BYMONTH=10;BYDAY=-1SU
END:STANDARD
END:VTIMEZONE
BEGIN:VEVENT
DTSTART;TZID=Europe/London:20251113T120000
DTEND;TZID=Europe/London:20251113T133000
DTSTAMP:20260421T092658Z
UID:{379E946A-BE71-42C3-B09B4D43FDBEFB6F}
LOCATION:
SUMMARY:Hair and Makeup Equity: What Every Producer Should Know 
DESCRIPTION:Join BBC Creative Diversity Partner, Iyare Igiehon, for a session on delivering equitable, inclusive and culturally competent hair and makeup services on set.\n
 \n
 Event details: https://www.pact.co.uk/event/hair-and-makeup-equity-what-every-producer-should-know.html
PRIORITY:1
END:VEVENT
END:VCALENDAR