BEGIN:VCALENDAR
PRODID:-//Pixl8//Eventfolio//EN
VERSION:2.0
X-WR-TIMEZONE:Europe/London
CALSCALE:GREGORIAN
METHOD:PUBLISH
CLASS:PUBLIC
BEGIN:VTIMEZONE
TZID:Europe/London
LAST-MODIFIED:20260306T231828Z
TZURL:https://www.tzurl.org/zoneinfo-outlook/Europe/London
X-LIC-LOCATION:Europe/London
BEGIN:DAYLIGHT
TZNAME:BST
TZOFFSETFROM:+0000
TZOFFSETTO:+0100
DTSTART:19700329T010000
RRULE:FREQ=YEARLY;BYMONTH=3;BYDAY=-1SU
END:DAYLIGHT
BEGIN:STANDARD
TZNAME:GMT
TZOFFSETFROM:+0100
TZOFFSETTO:+0000
DTSTART:19701025T020000
RRULE:FREQ=YEARLY;BYMONTH=10;BYDAY=-1SU
END:STANDARD
END:VTIMEZONE
BEGIN:VEVENT
DTSTART;TZID=Europe/London:20260311T120000
DTEND;TZID=Europe/London:20260311T131500
DTSTAMP:20260423T063224Z
UID:{72216FD0-23EB-47F8-A6214A4462A3FF09}
LOCATION:
SUMMARY:Diamond is Changing: Important Updates
DESCRIPTION:Join this session with Creative Diversity Network (CDN) for an overview of its new and improved Diamond launching this July, the key changes coming, and what they mean for you and your teams.\n
 \n
 Event details: https://www.pact.co.uk/event/diamond-is-changing-important-updates.html
PRIORITY:1
END:VEVENT
END:VCALENDAR