BEGIN:VCALENDAR
PRODID:-//Pixl8//Eventfolio//EN
VERSION:2.0
X-WR-TIMEZONE:Europe/London
CALSCALE:GREGORIAN
METHOD:PUBLISH
CLASS:PUBLIC
BEGIN:VTIMEZONE
TZID:Europe/London
LAST-MODIFIED:20260306T231828Z
TZURL:https://www.tzurl.org/zoneinfo-outlook/Europe/London
X-LIC-LOCATION:Europe/London
BEGIN:DAYLIGHT
TZNAME:BST
TZOFFSETFROM:+0000
TZOFFSETTO:+0100
DTSTART:19700329T010000
RRULE:FREQ=YEARLY;BYMONTH=3;BYDAY=-1SU
END:DAYLIGHT
BEGIN:STANDARD
TZNAME:GMT
TZOFFSETFROM:+0100
TZOFFSETTO:+0000
DTSTART:19701025T020000
RRULE:FREQ=YEARLY;BYMONTH=10;BYDAY=-1SU
END:STANDARD
END:VTIMEZONE
BEGIN:VEVENT
DTSTART;TZID=Europe/London:20250520T140000
DTEND;TZID=Europe/London:20250520T150000
DTSTAMP:20260426T014719Z
UID:{A8979278-2C68-4227-884DA01BA35617EE}
LOCATION:
SUMMARY:BBC Strategy Briefing: Scotland Pact Members Pre-Meet
DESCRIPTION:Ahead of the BBC's Strategy Briefing in Scotland on Thursday 29th May, we will be hosting an online meeting for Pact members to discuss the main issues for producers and key points you would like answers to during the Briefing.\n
 \n
 Event details: https://www.pact.co.uk/event/bbc-strategy-briefing-scotland-pact-members-pre-meet.html
PRIORITY:1
END:VEVENT
END:VCALENDAR