BEGIN:VCALENDAR
PRODID:-//Pixl8//Eventfolio//EN
VERSION:2.0
X-WR-TIMEZONE:Europe/London
CALSCALE:GREGORIAN
METHOD:PUBLISH
CLASS:PUBLIC
BEGIN:VTIMEZONE
TZID:Europe/London
LAST-MODIFIED:20260306T231828Z
TZURL:https://www.tzurl.org/zoneinfo-outlook/Europe/London
X-LIC-LOCATION:Europe/London
BEGIN:DAYLIGHT
TZNAME:BST
TZOFFSETFROM:+0000
TZOFFSETTO:+0100
DTSTART:19700329T010000
RRULE:FREQ=YEARLY;BYMONTH=3;BYDAY=-1SU
END:DAYLIGHT
BEGIN:STANDARD
TZNAME:GMT
TZOFFSETFROM:+0100
TZOFFSETTO:+0000
DTSTART:19701025T020000
RRULE:FREQ=YEARLY;BYMONTH=10;BYDAY=-1SU
END:STANDARD
END:VTIMEZONE
BEGIN:VEVENT
DTSTART;TZID=Europe/London:20250327T120000
DTEND;TZID=Europe/London:20250327T133000
DTSTAMP:20260420T220547Z
UID:{CBC7C154-FE0C-4F74-BA7D08036DCEA0F2}
LOCATION:
SUMMARY:A Practical Guide to Neurodivergence at Work
DESCRIPTION:An introduction to what neurodivergence is, how difficulties can present in the workplace and what actions you can take to mitigate these whilst helping to maximise the potential of your neurodivergent employees.\n
 \n
 Event details: https://www.pact.co.uk/event/a-practical-guide-to-neurodivergence-at-work.html
PRIORITY:1
END:VEVENT
END:VCALENDAR